BEGIN:VCALENDAR
VERSION:2.0
PRODID:-//Grossenburg - ECPv6.15.20//NONSGML v1.0//EN
CALSCALE:GREGORIAN
METHOD:PUBLISH
X-ORIGINAL-URL:https://www.grossenburg.com
X-WR-CALDESC:Events for Grossenburg
REFRESH-INTERVAL;VALUE=DURATION:PT1H
X-Robots-Tag:noindex
X-PUBLISHED-TTL:PT1H
BEGIN:VTIMEZONE
TZID:America/Chicago
BEGIN:DAYLIGHT
TZOFFSETFROM:-0600
TZOFFSETTO:-0500
TZNAME:CDT
DTSTART:20250309T080000
END:DAYLIGHT
BEGIN:STANDARD
TZOFFSETFROM:-0500
TZOFFSETTO:-0600
TZNAME:CST
DTSTART:20251102T070000
END:STANDARD
BEGIN:DAYLIGHT
TZOFFSETFROM:-0600
TZOFFSETTO:-0500
TZNAME:CDT
DTSTART:20260308T080000
END:DAYLIGHT
BEGIN:STANDARD
TZOFFSETFROM:-0500
TZOFFSETTO:-0600
TZNAME:CST
DTSTART:20261101T070000
END:STANDARD
BEGIN:DAYLIGHT
TZOFFSETFROM:-0600
TZOFFSETTO:-0500
TZNAME:CDT
DTSTART:20270314T080000
END:DAYLIGHT
BEGIN:STANDARD
TZOFFSETFROM:-0500
TZOFFSETTO:-0600
TZNAME:CST
DTSTART:20271107T070000
END:STANDARD
END:VTIMEZONE
BEGIN:VEVENT
DTSTART;TZID=America/Chicago:20260301T000000
DTEND;TZID=America/Chicago:20260331T235959
DTSTAMP:20260423T211030
CREATED:20260319T114540Z
LAST-MODIFIED:20260319T130002Z
UID:100467-1772323200-1775001599@www.grossenburg.com
SUMMARY:ANNUAL JOHN DEERE FILTER SALE
DESCRIPTION:Save 16% On All John Deere & Fleetguard Filters\n\n\n\nStock up on all your John Deere filters now before spring season!! \n\n\n\n\nOrder Now!\n\n\n\n\nOffer Valid March 1st – March 31st\, 2026!
URL:https://www.grossenburg.com/event/annual-john-deere-filter-sale/
CATEGORIES:Community Event
ATTACH;FMTTYPE=image/webp:https://www.grossenburg.com/wp-content/uploads/2026/03/event-hero-annual-john-deere-filter-sale.webp
END:VEVENT
END:VCALENDAR