BEGIN:VCALENDAR
VERSION:2.0
PRODID:-//Grossenburg - ECPv6.15.20//NONSGML v1.0//EN
CALSCALE:GREGORIAN
METHOD:PUBLISH
X-ORIGINAL-URL:https://www.grossenburg.com
X-WR-CALDESC:Events for Grossenburg
REFRESH-INTERVAL;VALUE=DURATION:PT1H
X-Robots-Tag:noindex
X-PUBLISHED-TTL:PT1H
BEGIN:VTIMEZONE
TZID:America/Chicago
BEGIN:DAYLIGHT
TZOFFSETFROM:-0600
TZOFFSETTO:-0500
TZNAME:CDT
DTSTART:20250309T080000
END:DAYLIGHT
BEGIN:STANDARD
TZOFFSETFROM:-0500
TZOFFSETTO:-0600
TZNAME:CST
DTSTART:20251102T070000
END:STANDARD
BEGIN:DAYLIGHT
TZOFFSETFROM:-0600
TZOFFSETTO:-0500
TZNAME:CDT
DTSTART:20260308T080000
END:DAYLIGHT
BEGIN:STANDARD
TZOFFSETFROM:-0500
TZOFFSETTO:-0600
TZNAME:CST
DTSTART:20261101T070000
END:STANDARD
BEGIN:DAYLIGHT
TZOFFSETFROM:-0600
TZOFFSETTO:-0500
TZNAME:CDT
DTSTART:20270314T080000
END:DAYLIGHT
BEGIN:STANDARD
TZOFFSETFROM:-0500
TZOFFSETTO:-0600
TZNAME:CST
DTSTART:20271107T070000
END:STANDARD
END:VTIMEZONE
BEGIN:VEVENT
DTSTART;TZID=America/Chicago:20260504T080000
DTEND;TZID=America/Chicago:20260508T170000
DTSTAMP:20260423T160559
CREATED:20260421T155641Z
LAST-MODIFIED:20260421T162131Z
UID:105118-1777881600-1778259600@www.grossenburg.com
SUMMARY:All Store Lawn Mower Week
DESCRIPTION:Get in the Seat Mower Event at ALL 9 Grossenburg Locations. \n\n\n\nAsk About Low Rate Financing Offers Available! \n\n\n\nGet In The Seat & See What Is New With John Deere Mowers & Gators!
URL:https://www.grossenburg.com/event/all-store-lawn-mower-week/
ATTACH;FMTTYPE=image/jpeg:https://www.grossenburg.com/wp-content/uploads/2026/04/r4e028447_rrd_01.jpg
END:VEVENT
BEGIN:VEVENT
DTSTART;TZID=America/Chicago:20260508T080000
DTEND;TZID=America/Chicago:20260509T120000
DTSTAMP:20260423T160559
CREATED:20260421T160047Z
LAST-MODIFIED:20260421T160047Z
UID:105120-1778227200-1778328000@www.grossenburg.com
SUMMARY:Mother's Day Special!
DESCRIPTION:🌸 Celebrate Mom\, Grandma & Great-Grandma with an en-Deere-ing gift from Grossenburg Implement Parts! \n\n\n\n🎁 Save 10% on John Deere caps\, shirts\, gloves & more—just in time for Mother’s Day. \n\n\n\nWhether she’s:🌼 Gardening🌱 Mowing the yard🚜 Or cruising the Gator at the lake soaking up the sun \n\n\n\n…we’ve got something she’ll love. \n\n\n\n👉 Stop in today and find the perfect gift!
URL:https://www.grossenburg.com/event/mothers-day-special/
ATTACH;FMTTYPE=image/png:https://www.grossenburg.com/wp-content/uploads/2026/04/2026-Mothers-Day-Flyer-scaled.png
END:VEVENT
BEGIN:VEVENT
DTSTART;TZID=America/Chicago:20260508T113000
DTEND;TZID=America/Chicago:20260508T133000
DTSTAMP:20260423T160559
CREATED:20260421T155810Z
LAST-MODIFIED:20260421T160225Z
UID:105119-1778239800-1778247000@www.grossenburg.com
SUMMARY:Sundance Customer Appreciation Event!
DESCRIPTION:Join us on May 8th from 11:30 AM – 1:30 PM at our Sundance Location for a Free Lunch as we say Thank You to our Valued Customers.  Visitors can register for Free Door Prizes and Everyone Will Receive 10% Off Parts Purchased In The Store That Day! \n\n\n\nBring The Entire Family & Enjoy Lunch On Us!
URL:https://www.grossenburg.com/event/sundance-customer-appreciation-event/
ATTACH;FMTTYPE=image/png:https://www.grossenburg.com/wp-content/uploads/2026/04/Sundance-Customer-Appreciation-Event-Flyer-4-16-26.png
END:VEVENT
END:VCALENDAR